BEGIN:VCALENDAR
VERSION:2.0
PRODID:Events Booking
BEGIN:VEVENT
UID:69e64d9b2e3ea
SUMMARY:Newcastle and Hunter Support Group 
DESCRIPTION:This is a group for people who are supported by&nbsp\;MND Advis
 or&nbsp\;Shannon\,&nbsp\;that live in the Newcastle and Hunter area.
 Thi
 s group will be held at&nbsp\;Merewether Bowling Club.
LOCATION:23 Caldwell St\, Merewether NSW 2291
DTSTART:20221206T234500Z
DTEND:20221207T013000Z
DTSTAMP:20220731T192119Z
ORGANIZER;CN=MNDNSW Website - Events:MAILTO:info@mndnsw.org.au
GEO:-32.943038;151.748335
X-APPLE-STRUCTURED-LOCATION;VALUE=URI;X-ADDRESS=23 Caldwell St\, Merewether
  NSW 2291;X-APPLE-RADIUS=72;X-TITLE=Merewether Bowling Club:-32.943038;151
 .748335
END:VEVENT
END:VCALENDAR