BEGIN:VCALENDAR
VERSION:2.0
PRODID:Events Booking
BEGIN:VEVENT
UID:69e64dc988584
SUMMARY:North West Support Group
DESCRIPTION:The North West Support Group currently meets bi-monthly and is 
 held online with your MND Advisor Savannah.&nbsp\;
DTSTART:20221204T230000Z
DTEND:20221205T000000Z
DTSTAMP:20220731T193328Z
ORGANIZER;CN=MNDNSW Website - Events:MAILTO:info@mndnsw.org.au
END:VEVENT
END:VCALENDAR