BEGIN:VCALENDAR
VERSION:2.0
PRODID:Events Booking
BEGIN:VEVENT
UID:69e6922ece4d8
SUMMARY:North Sydney Support Group 
DESCRIPTION:This is an in person support group for people who are supported
  by&nbsp\;MND Advisor Lucy\,&nbsp\;that live in Northern Sydney and the No
 rthern Beaches.
 This event is being held at Hornsby RSL Club.&nbsp\;
LOCATION:4 High St\, Hornsby NSW 2077
DTSTART:20220929T000000Z
DTEND:20220929T020000Z
DTSTAMP:20220731T193420Z
ORGANIZER;CN=MNDNSW Website - Events:MAILTO:info@mndnsw.org.au
GEO:-33.704696;151.095111
X-APPLE-STRUCTURED-LOCATION;VALUE=URI;X-ADDRESS=4 High St\, Hornsby NSW 207
 7;X-APPLE-RADIUS=72;X-TITLE=Hornsby RSL Club:-33.704696;151.095111
END:VEVENT
END:VCALENDAR