BEGIN:VCALENDAR
VERSION:2.0
PRODID:Events Booking
BEGIN:VEVENT
UID:69e64d8f8c6fa
SUMMARY:ACT Support Group
DESCRIPTION:&nbsp\;
 &nbsp\;
LOCATION:117 Denison St\, Deakin ACT 2600\, Australia
DTSTART:20221206T233000Z
DTEND:20221207T010000Z
DTSTAMP:20220731T193858Z
ORGANIZER;CN=MNDNSW Website - Events:MAILTO:info@mndnsw.org.au
GEO:-35.324839;149.09319
X-APPLE-STRUCTURED-LOCATION;VALUE=URI;X-ADDRESS=117 Denison St\, Deakin ACT
  2600\, Australia;X-APPLE-RADIUS=72;X-TITLE=MS ACT:-35.324839;149.09319
END:VEVENT
END:VCALENDAR