BEGIN:VCALENDAR
VERSION:2.0
PRODID:Events Booking
BEGIN:VEVENT
UID:69e64d9b2e628
SUMMARY:Central Coast Support Group 
DESCRIPTION:This is an MND Support Group for people who are supported by&nb
 sp\;Advisor Kath\,&nbsp\;that live on the Central Coast.
 This event will
  be held at Mingara Recreation Club.
LOCATION:12-14 Mingara Drive Tumbi Umbi NSW
DTSTART:20221206T013000Z
DTEND:20221205T153000Z
DTSTAMP:20220905T195818Z
ORGANIZER;CN=MNDNSW Website - Events:MAILTO:info@mndnsw.org.au
GEO:-33.362773;151.443756
X-APPLE-STRUCTURED-LOCATION;VALUE=URI;X-ADDRESS=12-14 Mingara Drive Tumbi U
 mbi NSW;X-APPLE-RADIUS=72;X-TITLE=Mingara Recreation Club:-33.362773;151.4
 43756
END:VEVENT
END:VCALENDAR