BEGIN:VCALENDAR
VERSION:2.0
PRODID:Events Booking
BEGIN:VEVENT
UID:69e6200b8c35e
SUMMARY:North West MND Support Group (online)
DESCRIPTION:
DTSTART:20230206T000000Z
DTEND:20230206T000000Z
DTSTAMP:20221219T152248Z
ORGANIZER;CN=MNDNSW Website - Events:MAILTO:info@mndnsw.org.au
END:VEVENT
END:VCALENDAR