BEGIN:VCALENDAR
VERSION:2.0
PRODID:Events Booking
BEGIN:VEVENT
UID:69e5cb9c391ab
SUMMARY:Central and South Eastern Sydney Online MND Support Group 
DESCRIPTION:
DTSTART:20230630T000000Z
DTEND:20230630T010000Z
DTSTAMP:20230226T122021Z
ORGANIZER;CN=MNDNSW Website - Events:MAILTO:info@mndnsw.org.au
END:VEVENT
END:VCALENDAR