BEGIN:VCALENDAR
VERSION:2.0
PRODID:Events Booking
BEGIN:VEVENT
UID:69e5a40c1a532
SUMMARY:North West MND Support Group (online) 
DESCRIPTION:
DTSTART:20230807T010000Z
DTEND:20230807T020000Z
DTSTAMP:20230226T124146Z
ORGANIZER;CN=MNDNSW Website - Events:MAILTO:info@mndnsw.org.au
END:VEVENT
END:VCALENDAR