BEGIN:VCALENDAR
VERSION:2.0
PRODID:Events Booking
BEGIN:VEVENT
UID:69e5a3e291b36
SUMMARY:Central Coast MND Support Group 
DESCRIPTION:
LOCATION:12-14 Mingara Drive Tumbi Umbi NSW
DTSTART:20230808T023000Z
DTEND:20230808T043000Z
DTSTAMP:20230226T124711Z
ORGANIZER;CN=MNDNSW Website - Events:MAILTO:info@mndnsw.org.au
GEO:-33.362773;151.443756
X-APPLE-STRUCTURED-LOCATION;VALUE=URI;X-ADDRESS=12-14 Mingara Drive Tumbi U
 mbi NSW;X-APPLE-RADIUS=72;X-TITLE=Mingara Recreation Club:-33.362773;151.4
 43756
END:VEVENT
END:VCALENDAR