BEGIN:VCALENDAR
VERSION:2.0
PRODID:Events Booking
BEGIN:VEVENT
UID:69e58e582df81
SUMMARY:Wagga Wagga- MND Support Group
DESCRIPTION:
LOCATION:8 Tanda Place\, Glenfield Park\, NSW\, 2650
DTSTART:20230901T000000Z
DTEND:20230901T020000Z
DTSTAMP:20230226T125030Z
ORGANIZER;CN=MNDNSW Website - Events:MAILTO:info@mndnsw.org.au
GEO:-35.137593;147.333471
X-APPLE-STRUCTURED-LOCATION;VALUE=URI;X-ADDRESS=8 Tanda Place\, Glenfield P
 ark\, NSW\, 2650;X-APPLE-RADIUS=72;X-TITLE=Glenfield Community Centre:-35.
 137593;147.333471
END:VEVENT
END:VCALENDAR