BEGIN:VCALENDAR
VERSION:2.0
PRODID:Events Booking
BEGIN:VEVENT
UID:69e58f3e6c862
SUMMARY:Central and South Eastern Sydney Online MND Support Group
DESCRIPTION:
DTSTART:20230908T010000Z
DTEND:20230908T020000Z
DTSTAMP:20230226T122021Z
ORGANIZER;CN=MNDNSW Website - Events:MAILTO:info@mndnsw.org.au
END:VEVENT
END:VCALENDAR