BEGIN:VCALENDAR
VERSION:2.0
PRODID:Events Booking
BEGIN:VEVENT
UID:69e57a2424df3
SUMMARY:North West MND Support Group (online) 
DESCRIPTION:
DTSTART:20231009T000000Z
DTEND:20231009T010000Z
DTSTAMP:20230226T124146Z
ORGANIZER;CN=MNDNSW Website - Events:MAILTO:info@mndnsw.org.au
END:VEVENT
END:VCALENDAR