BEGIN:VCALENDAR
VERSION:2.0
PRODID:Events Booking
BEGIN:VEVENT
UID:69e56051e3dc8
SUMMARY:Western Sydney MND Support Group 
DESCRIPTION:
DTSTART:20231116T000000Z
DTEND:20231116T020000Z
DTSTAMP:20230226T125123Z
ORGANIZER;CN=MNDNSW Website - Events:MAILTO:info@mndnsw.org.au
END:VEVENT
END:VCALENDAR