BEGIN:VCALENDAR
VERSION:2.0
PRODID:Events Booking
BEGIN:VEVENT
UID:69e51f1ce4442
SUMMARY:North West MND Support Group (online) 
DESCRIPTION:
DTSTART:20240205T000000Z
DTEND:20240205T010000Z
DTSTAMP:20230226T124146Z
ORGANIZER;CN=MNDNSW Website - Events:MAILTO:info@mndnsw.org.au
END:VEVENT
END:VCALENDAR