BEGIN:VCALENDAR
VERSION:2.0
PRODID:Events Booking
BEGIN:VEVENT
UID:69e4f7d990070
SUMMARY:Western Sydney MND Support Group (Online)
DESCRIPTION:
DTSTART:20240404T000000Z
DTEND:20240404T020000Z
DTSTAMP:20230226T125123Z
ORGANIZER;CN=MNDNSW Website - Events:MAILTO:info@mndnsw.org.au
END:VEVENT
END:VCALENDAR