BEGIN:VCALENDAR
VERSION:2.0
PRODID:Events Booking
BEGIN:VEVENT
UID:69e4ddd545e28
SUMMARY:South Coast and Northern Territory Support Group
DESCRIPTION:
DTSTART:20240514T000000Z
DTEND:20240514T020000Z
DTSTAMP:20230226T125302Z
ORGANIZER;CN=MNDNSW Website - Events:MAILTO:info@mndnsw.org.au
END:VEVENT
END:VCALENDAR