BEGIN:VCALENDAR
VERSION:2.0
PRODID:Events Booking
BEGIN:VEVENT
UID:69ea60b53e40e
SUMMARY:Carers Week High Tea
DESCRIPTION:Celebrate Carers Week 2018 with a high tea. Informal meet-up fo
 r people with MND and their carer with support from Carers NSW. For more i
 nformation and to RSVP contact Chris Carroll\, MND Advisor\,&nbsp\;Murwill
 umbah office ph. 02 8877 0966 or MND NSW ph. 02 8877 0999.
LOCATION:253 Wardell Rd\, Lynwood NSW 2477\, Australia
DTSTART:20181014T230000Z
DTEND:20181015T010000Z
DTSTAMP:20260423T181101Z
ORGANIZER;CN=MNDNSW Website - Events:MAILTO:info@mndnsw.org.au
GEO:-28.861543;153.438739
X-APPLE-STRUCTURED-LOCATION;VALUE=URI;X-ADDRESS=253 Wardell Rd\, Lynwood NS
 W 2477\, Australia;X-APPLE-RADIUS=72;X-TITLE=House with No Steps Alstonvil
 le:-28.861543;153.438739
END:VEVENT
END:VCALENDAR