BEGIN:VCALENDAR
VERSION:2.0
PRODID:Events Booking
BEGIN:VEVENT
UID:69ea4b17c1a55
SUMMARY:Port Macquarie Coffee Morning
DESCRIPTION:Coffee morning get together.
LOCATION:121 Bridge St\, Port Macquarie NSW 2444\, Australia
DTSTART:20181112T220000Z
DTEND:20181113T000000Z
DTSTAMP:20260423T163847Z
ORGANIZER;CN=MNDNSW Website - Events:MAILTO:info@mndnsw.org.au
GEO:-31.433099;152.903607
X-APPLE-STRUCTURED-LOCATION;VALUE=URI;X-ADDRESS=121 Bridge St\, Port Macqua
 rie NSW 2444\, Australia;X-APPLE-RADIUS=72;X-TITLE=Dementia Resource Centr
 e Port Macquarie:-31.433099;152.903607
END:VEVENT
END:VCALENDAR