BEGIN:VCALENDAR
VERSION:2.0
PRODID:Events Booking
BEGIN:VEVENT
UID:69e967011c8b8
SUMMARY:Northern Sydney (Hornsby) Support Group and National Carers Week mo
 rning tea
DESCRIPTION:Informal setting for exchange of information and support. Alter
 nates between general discussion and guest speaker.
LOCATION:Yarrara Rd & Ramsay Rd\, Pennant Hills NSW 2120\, Australia
DTSTART:20191010T003000Z
DTEND:20191009T143000Z
DTSTAMP:20260423T002537Z
ORGANIZER;CN=MNDNSW Website - Events:MAILTO:info@mndnsw.org.au
GEO:-33.737823;151.072205
X-APPLE-STRUCTURED-LOCATION;VALUE=URI;X-ADDRESS=Yarrara Rd & Ramsay Rd\, Pe
 nnant Hills NSW 2120\, Australia;X-APPLE-RADIUS=72;X-TITLE=Pennant Hills C
 ommunity Centre:-33.737823;151.072205
END:VEVENT
END:VCALENDAR