BEGIN:VCALENDAR
VERSION:2.0
PRODID:Events Booking
BEGIN:VEVENT
UID:69e97b657f389
SUMMARY:Northern Beaches Support Group
DESCRIPTION:Informal setting for exchange of information and support.
LOCATION:Coronation St\, Mona Vale NSW 2103\, Australia
DTSTART:20190916T013000Z
DTEND:20190915T153000Z
DTSTAMP:20260423T015237Z
ORGANIZER;CN=MNDNSW Website - Events:MAILTO:info@mndnsw.org.au
GEO:-33.686772;151.306696
X-APPLE-STRUCTURED-LOCATION;VALUE=URI;X-ADDRESS=Coronation St\, Mona Vale N
 SW 2103\, Australia;X-APPLE-RADIUS=72;X-TITLE=Cora Adcock Centre for Palli
 ative Care:-33.686772;151.306696
END:VEVENT
END:VCALENDAR