BEGIN:VCALENDAR
VERSION:2.0
PRODID:Events Booking
BEGIN:VEVENT
UID:69e9527fa4137
SUMMARY:Northern Beaches Support Group End of Year Celebration
DESCRIPTION:Northern Beaches Support Group End of Year Celebration
LOCATION:11-37 Alexandria Parade\, Waitara NSW 2077
DTSTART:20191128T003000Z
DTEND:20191127T143000Z
DTSTAMP:20260422T225807Z
ORGANIZER;CN=MNDNSW Website - Events:MAILTO:info@mndnsw.org.au
GEO:-33.709736;151.104869
X-APPLE-STRUCTURED-LOCATION;VALUE=URI;X-ADDRESS=11-37 Alexandria Parade\, W
 aitara NSW 2077;X-APPLE-RADIUS=72;X-TITLE=Magpies Waitara:-33.709736;151.1
 04869
END:VEVENT
END:VCALENDAR