BEGIN:VCALENDAR
VERSION:2.0
PRODID:Events Booking
BEGIN:VEVENT
UID:69e96638f3e79
SUMMARY:Campbelltown Support Group
DESCRIPTION:The Campbelltown Support Group meets every two&nbsp\;months at 
 Eagle Vale.
LOCATION:Emerald Dr & Feldspar Rd
DTSTART:20191014T230000Z
DTEND:20191015T010000Z
DTSTAMP:20260423T002216Z
ORGANIZER;CN=MNDNSW Website - Events:MAILTO:info@mndnsw.org.au
GEO:-34.033656;150.815188
X-APPLE-STRUCTURED-LOCATION;VALUE=URI;X-ADDRESS=Emerald Dr & Feldspar Rd;X-
 APPLE-RADIUS=72;X-TITLE=Eagle Vale Central:-34.033656;150.815188
END:VEVENT
END:VCALENDAR