BEGIN:VCALENDAR
VERSION:2.0
PRODID:Events Booking
BEGIN:VEVENT
UID:69e9e64e890f4
SUMMARY:Central Coast Support Group 
DESCRIPTION:Bi-monthly meetings. Get-together\, general discussion\, usuall
 y with a guest speaker.
LOCATION:2 Pandala Road
DTSTART:20190404T020000Z
DTEND:20190404T040000Z
DTSTAMP:20260423T092846Z
ORGANIZER;CN=MNDNSW Website - Events:MAILTO:info@mndnsw.org.au
GEO:-33.399319;151.335228
X-APPLE-STRUCTURED-LOCATION;VALUE=URI;X-ADDRESS=2 Pandala Road;X-APPLE-RADI
 US=72;X-TITLE=Gosford/Narara Neighbourhood Centre:-33.399319;151.335228
END:VEVENT
END:VCALENDAR