BEGIN:VCALENDAR
VERSION:2.0
PRODID:Events Booking
BEGIN:VEVENT
UID:69e966163b787
SUMMARY:Central Coast Support Group 
DESCRIPTION:Bi-monthly meetings. Get-together\, general discussion\, usuall
 y with a guest speaker.
LOCATION:2 Pandala Road
DTSTART:20191003T030000Z
DTEND:20191003T050000Z
DTSTAMP:20260423T002142Z
ORGANIZER;CN=MNDNSW Website - Events:MAILTO:info@mndnsw.org.au
GEO:-33.399319;151.335228
X-APPLE-STRUCTURED-LOCATION;VALUE=URI;X-ADDRESS=2 Pandala Road;X-APPLE-RADI
 US=72;X-TITLE=Gosford/Narara Neighbourhood Centre:-33.399319;151.335228
END:VEVENT
END:VCALENDAR