BEGIN:VCALENDAR
VERSION:2.0
PRODID:Events Booking
BEGIN:VEVENT
UID:69ea0b37d9774
SUMMARY:Gold Coast Carers Support Group
DESCRIPTION:Carers QLD and the MND Association aims to provide information\
 , support and resources for you as a Carer.
LOCATION:18 Fairway Drive
DTSTART:20190206T000000Z
DTEND:20190206T020000Z
DTSTAMP:20260423T120615Z
ORGANIZER;CN=MNDNSW Website - Events:MAILTO:info@mndnsw.org.au
GEO:-28.037403;153.407421
X-APPLE-STRUCTURED-LOCATION;VALUE=URI;X-ADDRESS=18 Fairway Drive;X-APPLE-RA
 DIUS=72;X-TITLE=Gold Coast Italo Australian Club:-28.037403;153.407421
END:VEVENT
END:VCALENDAR