BEGIN:VCALENDAR
VERSION:2.0
PRODID:Events Booking
BEGIN:VEVENT
UID:69e9badd252a3
SUMMARY:Gold Coast Carers Support Group 
DESCRIPTION:The Gold Coast Carers MND&nbsp\;Support Group&nbsp\;meets bi-mo
 nthly at Clear Island Waters.
LOCATION:18 Fairway Drive
DTSTART:20190605T010000Z
DTEND:20190605T030000Z
DTSTAMP:20260423T062325Z
ORGANIZER;CN=MNDNSW Website - Events:MAILTO:info@mndnsw.org.au
GEO:-28.037403;153.407421
X-APPLE-STRUCTURED-LOCATION;VALUE=URI;X-ADDRESS=18 Fairway Drive;X-APPLE-RA
 DIUS=72;X-TITLE=Gold Coast Italo Australian Club:-28.037403;153.407421
END:VEVENT
END:VCALENDAR