BEGIN:VCALENDAR
VERSION:2.0
PRODID:Events Booking
BEGIN:VEVENT
UID:69e96638b6208
SUMMARY:Newcastle and Hunter Support Group 
DESCRIPTION:The Newcastle and Hunter Support Group meets bi-monthly at Hami
 lton.
LOCATION:2 Percy St\, Hamilton NSW 2303\, Australia
DTSTART:20191022T230000Z
DTEND:20191023T010000Z
DTSTAMP:20260423T002216Z
ORGANIZER;CN=MNDNSW Website - Events:MAILTO:info@mndnsw.org.au
GEO:-32.921673;151.738658
X-APPLE-STRUCTURED-LOCATION;VALUE=URI;X-ADDRESS=2 Percy St\, Hamilton NSW 2
 303\, Australia;X-APPLE-RADIUS=72;X-TITLE=Hunter Dementia and Memory Resou
 rce Centre:-32.921673;151.738658
END:VEVENT
END:VCALENDAR