BEGIN:VCALENDAR
VERSION:2.0
PRODID:Events Booking
BEGIN:VEVENT
UID:69e93d0b2022d
SUMMARY:Illawarra Support Group
DESCRIPTION:The Illawarra Support Group meets monthly in the Warrawong area
 .
LOCATION:1 Stanthorpe Drive\, Kanahooka
DTSTART:20191212T000000Z
DTEND:20191212T020000Z
DTSTAMP:20260422T212635Z
ORGANIZER;CN=MNDNSW Website - Events:MAILTO:info@mndnsw.org.au
GEO:-34.492216;150.818119
X-APPLE-STRUCTURED-LOCATION;VALUE=URI;X-ADDRESS=1 Stanthorpe Drive\, Kanaho
 oka;X-APPLE-RADIUS=72;X-TITLE=Passionate Palate:-34.492216;150.818119
END:VEVENT
END:VCALENDAR