BEGIN:VCALENDAR
VERSION:2.0
PRODID:Events Booking
BEGIN:VEVENT
UID:69e9a57e0228a
SUMMARY:Illawarra Support Group
DESCRIPTION:The Illawarra Support Group meets monthly in the Warrawong area
 .
DTSTART:20190717T000000Z
DTEND:20190717T020000Z
DTSTAMP:20260423T045214Z
ORGANIZER;CN=MNDNSW Website - Events:MAILTO:info@mndnsw.org.au
END:VEVENT
END:VCALENDAR