BEGIN:VCALENDAR
VERSION:2.0
PRODID:Events Booking
BEGIN:VEVENT
UID:69e97b5fe8210
SUMMARY:Illawarra Support Group
DESCRIPTION:The Illawarra Support Group meets monthly in the Warrawong area
 .
DTSTART:20190918T000000Z
DTEND:20190918T020000Z
DTSTAMP:20260423T015231Z
ORGANIZER;CN=MNDNSW Website - Events:MAILTO:info@mndnsw.org.au
END:VEVENT
END:VCALENDAR