BEGIN:VCALENDAR
VERSION:2.0
PRODID:Events Booking
BEGIN:VEVENT
UID:69e9bac9ca7b9
SUMMARY:North West MND Support Group
DESCRIPTION:The North West Motor Neurone Support Group is for people who ha
 ve been diagnosed with all types of motor neurone disease\, their families
  and carers.
LOCATION:27 Ford Street\, Oxley Vale NSW 2340 Australia
DTSTART:20190603T003000Z
DTEND:20190603T023000Z
DTSTAMP:20260423T062305Z
ORGANIZER;CN=MNDNSW Website - Events:MAILTO:info@mndnsw.org.au
GEO:-31.065268;150.903935
X-APPLE-STRUCTURED-LOCATION;VALUE=URI;X-ADDRESS=27 Ford Street\, Oxley Vale
  NSW 2340 Australia;X-APPLE-RADIUS=72;X-TITLE=The Northcott Society:-31.06
 5268;150.903935
END:VEVENT
END:VCALENDAR