BEGIN:VCALENDAR
VERSION:2.0
PRODID:Events Booking
BEGIN:VEVENT
UID:69e97b86f1b2f
SUMMARY:Eastern Suburbs Coffee Morning
DESCRIPTION:Eastern Suburbs Coffee Morning&nbsp\;for people living with mot
 or neurone disease\, their family and friends.
LOCATION:32-48 Denison St\, Bondi Junction NSW 2022
DTSTART:20190910T003000Z
DTEND:20190910T023000Z
DTSTAMP:20260423T015310Z
ORGANIZER;CN=MNDNSW Website - Events:MAILTO:info@mndnsw.org.au
GEO:-33.89278;151.245044
X-APPLE-STRUCTURED-LOCATION;VALUE=URI;X-ADDRESS=32-48 Denison St\, Bondi Ju
 nction NSW 2022;X-APPLE-RADIUS=72;X-TITLE=Waverley Library:-33.89278;151.2
 45044
END:VEVENT
END:VCALENDAR