BEGIN:VCALENDAR
VERSION:2.0
PRODID:Events Booking
BEGIN:VEVENT
UID:69e9524083c17
SUMMARY:Campbelltown Support Group Celebration
DESCRIPTION:Campbelltown Support Group Christmas event.
LOCATION:20 Camden Rd\, Campbelltown NSW 2560\, Australia
DTSTART:20191126T000000Z
DTEND:20191126T020000Z
DTSTAMP:20260422T225704Z
ORGANIZER;CN=MNDNSW Website - Events:MAILTO:info@mndnsw.org.au
GEO:-34.072287;150.808018
X-APPLE-STRUCTURED-LOCATION;VALUE=URI;X-ADDRESS=20 Camden Rd\, Campbelltown
  NSW 2560\, Australia;X-APPLE-RADIUS=72;X-TITLE=Campbelltown Catholic Club
 :-34.072287;150.808018
END:VEVENT
END:VCALENDAR