BEGIN:VCALENDAR
VERSION:2.0
PRODID:Events Booking
BEGIN:VEVENT
UID:69e8eb7326b2c
SUMMARY:Campbelltown Support Group *POSTPONED*
DESCRIPTION:The Campbelltown Support Group meets every two&nbsp\;months at 
 Eagle Vale.
LOCATION:Emerald Dr & Feldspar Rd
DTSTART:20200421T010000Z
DTEND:20200421T030000Z
DTSTAMP:20260422T153827Z
ORGANIZER;CN=MNDNSW Website - Events:MAILTO:info@mndnsw.org.au
GEO:-34.033656;150.815188
X-APPLE-STRUCTURED-LOCATION;VALUE=URI;X-ADDRESS=Emerald Dr & Feldspar Rd;X-
 APPLE-RADIUS=72;X-TITLE=Eagle Vale Central:-34.033656;150.815188
END:VEVENT
END:VCALENDAR