BEGIN:VCALENDAR
VERSION:2.0
PRODID:Events Booking
BEGIN:VEVENT
UID:69e90171b0b5f
SUMMARY:Northern Beaches Support Group *CANCELLED*
DESCRIPTION:*CANCELLED* Informal setting for exchange of information and su
 pport.
LOCATION:Coronation St\, Mona Vale NSW 2103\, Australia
DTSTART:20200316T003000Z
DTEND:20200316T023000Z
DTSTAMP:20260422T171217Z
ORGANIZER;CN=MNDNSW Website - Events:MAILTO:info@mndnsw.org.au
GEO:-33.686772;151.306696
X-APPLE-STRUCTURED-LOCATION;VALUE=URI;X-ADDRESS=Coronation St\, Mona Vale N
 SW 2103\, Australia;X-APPLE-RADIUS=72;X-TITLE=Cora Adcock Centre for Palli
 ative Care:-33.686772;151.306696
END:VEVENT
END:VCALENDAR