BEGIN:VCALENDAR
VERSION:2.0
PRODID:Events Booking
BEGIN:VEVENT
UID:69e7e7ac3c6b8
SUMMARY:Central Coast Support Group
DESCRIPTION:Bi-monthly meetings. Get-together and general discussion.
LOCATION:2 Pandala Road
DTSTART:20210401T020000Z
DTEND:20210401T040000Z
DTSTAMP:20260421T211004Z
ORGANIZER;CN=MNDNSW Website - Events:MAILTO:info@mndnsw.org.au
GEO:-33.399319;151.335228
X-APPLE-STRUCTURED-LOCATION;VALUE=URI;X-ADDRESS=2 Pandala Road;X-APPLE-RADI
 US=72;X-TITLE=Gosford/Narara Neighbourhood Centre:-33.399319;151.335228
END:VEVENT
END:VCALENDAR