BEGIN:VCALENDAR
VERSION:2.0
PRODID:Events Booking
BEGIN:VEVENT
UID:69e8bd440fd66
SUMMARY:ACT Online Support Group
DESCRIPTION:The ACT Support Group is going online!&nbsp\;
 Grab a cuppa an
 d join MND Advisor Sue for an online Support Group.
DTSTART:20200604T003000Z
DTEND:20200604T013000Z
DTSTAMP:20260422T122124Z
ORGANIZER;CN=MNDNSW Website - Events:MAILTO:info@mndnsw.org.au
END:VEVENT
END:VCALENDAR