BEGIN:VCALENDAR
VERSION:2.0
PRODID:Events Booking
BEGIN:VEVENT
UID:69e87cf1ac087
SUMMARY:ACT Online Support Group
DESCRIPTION:The ACT Support Group is now online!&nbsp\;
 This is an online
  group meeting for people who would usually attend support group events wi
 th our&nbsp\;MND Advisor Sue
DTSTART:20200915T003000Z
DTEND:20200915T013000Z
DTSTAMP:20260422T074657Z
ORGANIZER;CN=MNDNSW Website - Events:MAILTO:info@mndnsw.org.au
END:VEVENT
END:VCALENDAR