BEGIN:VCALENDAR
VERSION:2.0
PRODID:Events Booking
BEGIN:VEVENT
UID:69e87cf1ac088
SUMMARY:Illawarra Online Support Group
DESCRIPTION:The Illawarra support group is now online!
 This is an online 
 group meeting for people who would usually attend support group events in 
 the Illawarra with our MND Advisor Ana.
DTSTART:20200916T000000Z
DTEND:20200916T010000Z
DTSTAMP:20260422T074657Z
ORGANIZER;CN=MNDNSW Website - Events:MAILTO:info@mndnsw.org.au
END:VEVENT
END:VCALENDAR