BEGIN:VCALENDAR
VERSION:2.0
PRODID:Events Booking
BEGIN:VEVENT
UID:69e8687727684
SUMMARY:Campbelltown Online Support Group
DESCRIPTION:The Campbelltown support group is going online!
 This is an on
 line group meeting for people who would usually attend support group event
 s in Campbelltown with our MND Advisor Ana.
DTSTART:20201019T230000Z
DTEND:20200920T010000Z
DTSTAMP:20260422T061935Z
ORGANIZER;CN=MNDNSW Website - Events:MAILTO:info@mndnsw.org.au
END:VEVENT
END:VCALENDAR