BEGIN:VCALENDAR
VERSION:2.0
PRODID:Events Booking
BEGIN:VEVENT
UID:69e8414981063
SUMMARY:Campbelltown Online Support Group
DESCRIPTION:The Campbelltown support group is going online!
 This is an on
 line group meeting for people who would usually attend support group event
 s in South Western Sydney and Campbelltown with our MND Advisor Ana.
DTSTART:20201207T230000Z
DTEND:20201208T000000Z
DTSTAMP:20260422T033225Z
ORGANIZER;CN=MNDNSW Website - Events:MAILTO:info@mndnsw.org.au
END:VEVENT
END:VCALENDAR