BEGIN:VCALENDAR
VERSION:2.0
PRODID:Events Booking
BEGIN:VEVENT
UID:69e8297bb6b90
SUMMARY:Illawarra Support Group
DESCRIPTION:The Illawarra Support Group meets monthly in the Warrawong area
  or online. The January support group will be online.&nbsp\;&nbsp\;
DTSTART:20210119T230000Z
DTEND:20210120T000000Z
DTSTAMP:20260422T015051Z
ORGANIZER;CN=MNDNSW Website - Events:MAILTO:info@mndnsw.org.au
END:VEVENT
END:VCALENDAR