BEGIN:VCALENDAR
VERSION:2.0
PRODID:Events Booking
BEGIN:VEVENT
UID:69e7fa455862e
SUMMARY:Illawarra Support Group
DESCRIPTION:The Illawarra Support Group meets monthly in the Warrawong area
  or online. Venue for this group is to Gloria Halbert room (Level 3)\, Por
 t Kembla Rehab hospital.
LOCATION:306 Cowper St\, Warrawong NSW 2502\, Australia
DTSTART:20210316T230000Z
DTEND:20210317T010000Z
DTSTAMP:20260421T222925Z
ORGANIZER;CN=MNDNSW Website - Events:MAILTO:info@mndnsw.org.au
GEO:-34.485294;150.882099
X-APPLE-STRUCTURED-LOCATION;VALUE=URI;X-ADDRESS=306 Cowper St\, Warrawong N
 SW 2502\, Australia;X-APPLE-RADIUS=72;X-TITLE=Port Kembla Hospital:-34.485
 294;150.882099
END:VEVENT
END:VCALENDAR