BEGIN:VCALENDAR
VERSION:2.0
PRODID:Events Booking
BEGIN:VEVENT
UID:69e8123cd0857
SUMMARY:Campbelltown Support Group
DESCRIPTION:The Campbelltown Support Group meets every two&nbsp\;months at 
 Eagle Vale or online. This group will be held online.&nbsp\;
DTSTART:20210215T230000Z
DTEND:20210216T000000Z
DTSTAMP:20260422T001140Z
ORGANIZER;CN=MNDNSW Website - Events:MAILTO:info@mndnsw.org.au
END:VEVENT
END:VCALENDAR