BEGIN:VCALENDAR
VERSION:2.0
PRODID:Events Booking
BEGIN:VEVENT
UID:69e812f919954
SUMMARY:North West Support Group 
DESCRIPTION:Informal get together for exchange of information and support o
 ver a cuppa. Either in person or online\, location for February is Online.
 &nbsp\;
DTSTART:20210207T230000Z
DTEND:20210208T000000Z
DTSTAMP:20260422T001449Z
ORGANIZER;CN=MNDNSW Website - Events:MAILTO:info@mndnsw.org.au
END:VEVENT
END:VCALENDAR