BEGIN:VCALENDAR
VERSION:2.0
PRODID:Events Booking
BEGIN:VEVENT
UID:69e7fc1f73f3c
SUMMARY:North West Support Group - Tamworth
DESCRIPTION:Informal get together for exchange of information and support.&
 nbsp\;
LOCATION:27 Ford Street\, Oxley Vale NSW 2340 Australia
DTSTART:20210328T233000Z
DTEND:20210329T013000Z
DTSTAMP:20260421T223719Z
ORGANIZER;CN=MNDNSW Website - Events:MAILTO:info@mndnsw.org.au
GEO:-31.065268;150.903935
X-APPLE-STRUCTURED-LOCATION;VALUE=URI;X-ADDRESS=27 Ford Street\, Oxley Vale
  NSW 2340 Australia;X-APPLE-RADIUS=72;X-TITLE=The Northcott Society:-31.06
 5268;150.903935
END:VEVENT
END:VCALENDAR