BEGIN:VCALENDAR
VERSION:2.0
PRODID:Events Booking
BEGIN:VEVENT
UID:69e82d8579577
SUMMARY:Central Coast Support Group
DESCRIPTION:Bi-monthly meetings. Get-together\, general discussion\, usuall
 y with a guest speaker. This meeting will be held online.&nbsp\;
DTSTART:20210127T230000Z
DTEND:20210128T000000Z
DTSTAMP:20260422T020805Z
ORGANIZER;CN=MNDNSW Website - Events:MAILTO:info@mndnsw.org.au
END:VEVENT
END:VCALENDAR