BEGIN:VCALENDAR
VERSION:2.0
PRODID:Events Booking
BEGIN:VEVENT
UID:69e7bf201baae
SUMMARY:Campbelltown Support Group
DESCRIPTION:The Campbelltown Support Group meets every two&nbsp\;months at&
 nbsp\;Campbelltown Arts Centre&nbsp\;or online. This group will be held at
  the Arts Centre.
LOCATION: 1 Art Gallery Rd\, Campbelltown NSW 2560
DTSTART:20210615T000000Z
DTEND:20210615T020000Z
DTSTAMP:20260421T181704Z
ORGANIZER;CN=MNDNSW Website - Events:MAILTO:info@mndnsw.org.au
GEO:-34.072637;150.809007
X-APPLE-STRUCTURED-LOCATION;VALUE=URI;X-ADDRESS= 1 Art Gallery Rd\, Campbel
 ltown NSW 2560;X-APPLE-RADIUS=72;X-TITLE=Campbelltown Arts Centre:-34.0726
 37;150.809007
END:VEVENT
END:VCALENDAR