BEGIN:VCALENDAR
VERSION:2.0
PRODID:Events Booking
BEGIN:VEVENT
UID:69e796303e9e5
SUMMARY:Campbelltown Support Group
DESCRIPTION:The Campbelltown Support Group meets every two&nbsp\;months at&
 nbsp\;Campbelltown Arts Centre&nbsp\;or online.
 This group will be held 
 online&nbsp\;
DTSTART:20210817T000000Z
DTEND:20210817T010000Z
DTSTAMP:20260421T152224Z
ORGANIZER;CN=MNDNSW Website - Events:MAILTO:info@mndnsw.org.au
END:VEVENT
END:VCALENDAR