BEGIN:VCALENDAR
VERSION:2.0
PRODID:Events Booking
BEGIN:VEVENT
UID:69e7e79aba130
SUMMARY:Northern Beaches Support Group
DESCRIPTION:Northern Sydney&nbsp\;support group
 This is a group meeting f
 or people who are supported by our&nbsp\;MND Advisor Lucy\,&nbsp\;that liv
 e in Northern Sydney\, Central Sydney and the Northern Beaches.&nbsp\;
LOCATION:74 Oceana St\, Narraweena NSW 2099
DTSTART:20210415T000000Z
DTEND:20210415T020000Z
DTSTAMP:20260421T210946Z
ORGANIZER;CN=MNDNSW Website - Events:MAILTO:info@mndnsw.org.au
GEO:-33.7521;151.272689
X-APPLE-STRUCTURED-LOCATION;VALUE=URI;X-ADDRESS=74 Oceana St\, Narraweena N
 SW 2099;X-APPLE-RADIUS=72;X-TITLE=Narraweena Community Centre:-33.7521;151
 .272689
END:VEVENT
END:VCALENDAR